BEGIN:VCALENDAR
VERSION:2.0
PRODID:-//Kati Schmitt-Stuhlträger | Wortmarketing &amp; Training - ECPv6.0.8//NONSGML v1.0//EN
CALSCALE:GREGORIAN
METHOD:PUBLISH
X-ORIGINAL-URL:https://wortmarketingundtraining.com
X-WR-CALDESC:Veranstaltungen für Kati Schmitt-Stuhlträger | Wortmarketing &amp; Training
REFRESH-INTERVAL;VALUE=DURATION:PT1H
X-Robots-Tag:noindex
X-PUBLISHED-TTL:PT1H
BEGIN:VTIMEZONE
TZID:Europe/Paris
BEGIN:DAYLIGHT
TZOFFSETFROM:+0100
TZOFFSETTO:+0200
TZNAME:CEST
DTSTART:20220327T010000
END:DAYLIGHT
BEGIN:STANDARD
TZOFFSETFROM:+0200
TZOFFSETTO:+0100
TZNAME:CET
DTSTART:20221030T010000
END:STANDARD
END:VTIMEZONE
BEGIN:VEVENT
DTSTART;TZID=Europe/Paris:20220627T093000
DTEND;TZID=Europe/Paris:20220627T160000
DTSTAMP:20260422T112625
CREATED:20220309T131111Z
LAST-MODIFIED:20220309T131111Z
UID:2567-1656322200-1656345600@wortmarketingundtraining.com
SUMMARY:Workshop: Von der Idee zum Business. Gestalte dein Geschäftsmodell
DESCRIPTION:Von der Idee zum Business. Gestalte dein Geschäftsmodell\n\n\n\n\n\n\n\n\n\n\n\nDas Ziel ist da: Du willst dich selbstständig machen. Eine grobe Gründungsidee hast du auch schon… und wie geht’s jetzt weiter? Wie wird aus der Idee Wirklichkeit und ein tatsächliches Business? \nIn diesem Workshop entwickeln wir aus deiner individuellen Geschäftsidee ein umsetzbares Geschäftsmodell. Dieses ist die Grundlage für deinen Businessplan und alle weiteren Schritte. \nWir sprechen ausführlich über die neun Schlüsselfaktoren eines Geschäftsmodells\, visualisieren Zusammenhänge und setzen die einzelnen Teile baukastenartig zusammen. Ausgehend von deinen Wunschkunden und den Vorteilen\, die deine Idee bietet\, beleuchten wir die verschiedenen Marketing- und Kommunikationskanäle sowie verschiedene Wege\, wie du deine Kunden findest. Wir sammeln Ideen für die Umsetzung des Geschäftsmodells und überlegen gemeinsam\, welche Partner du brauchst. \nSo setzen wir nach und nach dein Geschäftsmodell zusammen. Am Ende des Workshops hast du dann ein Grobkonzept für die Umsetzung deiner Geschäftsidee und kannst die nächsten Schritte zur Gründung angehen. \nINHALTE: \n\n\n\n\n\n\n\n\n\n\n\n\n\n\n\n\n\n\n\n\n\n\n\nDie eigene Gründungsidee finalisieren\nDie neun Schlüsselfaktoren des Geschäftsmodells: Business Model Canvas\nGeschäftsmodell-baukasten: von der Gründungsidee zum Business.\nFeedback und Konzeption: Dein Geschäftsmodellkonzept\n\n\n\n\n\n\n\n\n\n\n\n\n\n\n\n\n\n\n\n\n\n\n\nMitveranstalterin: Kontaktstelle Frau und Beruf Mannheim \nReferentin: Kati Schmitt-Stuhlträger \nVoraussetzungen: keine \nGruppengröße: max. 10 Teilnehmer*innen \nUhrzeit: 09.30 Uhr – 16.00 Uhr \nVeranstaltungsort: GIG7 Kompetenzzentrum FeMale Business\, G7 22\, 68159 Mannheim
URL:https://wortmarketingundtraining.com/termine/workshop-von-der-idee-zum-business-gestalte-dein-geschaeftsmodell/
LOCATION:gig7 Gründerinnenzentrum\, G7\, 22\, Mannheim\, 68159\, Deutschland
ATTACH;FMTTYPE=image/png:https://wortmarketingundtraining.com/wp-content/uploads/2022/03/business-6584073_1280.png
ORGANIZER;CN="gig7%20Gr%C3%BCnderinnenzentrum":MAILTO: info@gig7.de
END:VEVENT
END:VCALENDAR