BEGIN:VCALENDAR
VERSION:2.0
PRODID:-//Kati Schmitt-Stuhlträger | Wortmarketing &amp; Training - ECPv6.0.8//NONSGML v1.0//EN
CALSCALE:GREGORIAN
METHOD:PUBLISH
X-WR-CALNAME:Kati Schmitt-Stuhlträger | Wortmarketing &amp; Training
X-ORIGINAL-URL:https://wortmarketingundtraining.com
X-WR-CALDESC:Veranstaltungen für Kati Schmitt-Stuhlträger | Wortmarketing &amp; Training
REFRESH-INTERVAL;VALUE=DURATION:PT1H
X-Robots-Tag:noindex
X-PUBLISHED-TTL:PT1H
BEGIN:VTIMEZONE
TZID:Europe/Paris
BEGIN:DAYLIGHT
TZOFFSETFROM:+0100
TZOFFSETTO:+0200
TZNAME:CEST
DTSTART:20220327T010000
END:DAYLIGHT
BEGIN:STANDARD
TZOFFSETFROM:+0200
TZOFFSETTO:+0100
TZNAME:CET
DTSTART:20221030T010000
END:STANDARD
END:VTIMEZONE
BEGIN:VEVENT
DTSTART;TZID=Europe/Paris:20220411T180000
DTEND;TZID=Europe/Paris:20220411T200000
DTSTAMP:20260422T161119
CREATED:20220309T124944Z
LAST-MODIFIED:20220309T124944Z
UID:2540-1649700000-1649707200@wortmarketingundtraining.com
SUMMARY:„Sichtbar und vernetzt mit LinkedIn“ – Einführung in drei Lektionen
DESCRIPTION:Online-Workshop\nMontage 11. + 25. April + 09. Mai 2022 | 18 bis 20 Uhr \nLinkedIn bietet ein großes Potenzial\, wenn es darum geht\, eine Personenmarke aufzubauen und damit potenzielle und neue Kunden zu gewinnen oder einen neuen Job zu finden. Mit aktuell 17 Millionen Mitgliedern im deutschsprachigen Raum DACH (Stand: Feb. 2022) ist LinkedIn neben XING ein berufliches Netzwerk\, das es zu nutzen gilt. In diesem Onlineworkshop lernen Sie LinkedIn kennen\, und Sie erhalten eine Schritt-für-Schritt-Anleitung für ein überzeugendes Profil und Maßnahmen zur Kunden- bzw. Jobgewinnung. In drei Lektionen erfahren Sie nicht nur\, wie LinkedIn grundlegend funktioniert\, sondern vor allem\, wie Sie Ihr LinkedIn-Profil optimieren und einen Maßnahmenplan erstellen\, um sichtbar zu werden. Angereichert mit zahlreichen Praxistipps. \nThemen: \nLektion 1 = Das Profil \n\nEinführung\, Aufbau\, Navigation\nEinstellungen & Datenschutz\nProfil als Dreh- und Angelpunkt (Profilbild\, Infotext\, Berufserfahrung etc.)\n\nLektion 2 = Netzwerken \n\nDas eigene Netzwerk erweitern: Kontakte finden\, vernetzen\, folgen\nNachrichten schreiben\nJob- bzw. Kundensuche\n\nLektion 3 = Sichtbar werden \n\nMein Newsfeed und ich: Interaktionsmöglichkeiten\nGruppen finden\nBeiträge\, Artikel\, Hashtags\n\nWichtig: Die Teilnehmer*innen haben bereits ein LinkedIn-Profil angelegt. Ist dies noch nicht der Fall\, sollte dies VOR dem Workshop angelegt werden. Die kostenlose Variante ist zunächst ausreichend. \nVoraussetzung: eigener Laptop je Teilnehmerin\, Zugang zum Internet\, Webcam \nOnline-Seminar: 3 Termine\, die aufeinander aufbauen\, Input durch Trainerin\, Übungen\, Austausch\, Einzel- und Gruppenarbeiten \nGruppengröße: max. 12 Teilnehmerinnen \nReferentin/Trainerin: Kati Schmitt-Stuhlträger \nDer Workshop ist kostenfrei. \nAnmeldung: Bitte melden Sie sich unter https://eveeno.com/225718871 bis zum 31. März an. \nNach Anmeldschluss erhalten Sie eine Checkliste mit Unterlagen und Dateien zugeschickt\, die Sie dann zu den Lektionen bereithalten\, sowie die Bitte\, die Teilnahme zu bestätigen. Der Einwahllink wird Ihnen am Tag vor der Veranstaltung von der Referentin zugesandt. \nVeranstalterin: Kontaktstelle Frau und Beruf Mannheim – Rhein-Neckar-Odenwald\, Stadt  Mannheim – Abteilung Gleichstellung
URL:https://wortmarketingundtraining.com/termine/sichtbar-und-vernetzt-mit-linkedin-einfuehrung-in-drei-lektionen/
LOCATION:Online
ATTACH;FMTTYPE=image/jpeg:https://wortmarketingundtraining.com/wp-content/uploads/2022/03/linkedin-3319543_1920.jpg
ORGANIZER;CN="Kontaktstelle%20Frau%20und%20Beruf%20Mannheim":MAILTO:frauundberuf@mannheim.de
END:VEVENT
END:VCALENDAR